BEGIN:VCALENDAR
VERSION:2.0
PRODID:-//Energy Savers Network - ECPv6.15.20//NONSGML v1.0//EN
CALSCALE:GREGORIAN
METHOD:PUBLISH
X-WR-CALNAME:Energy Savers Network
X-ORIGINAL-URL:https://energysaversnetwork.org
X-WR-CALDESC:Events for Energy Savers Network
REFRESH-INTERVAL;VALUE=DURATION:PT1H
X-Robots-Tag:noindex
X-PUBLISHED-TTL:PT1H
BEGIN:VTIMEZONE
TZID:America/New_York
BEGIN:DAYLIGHT
TZOFFSETFROM:-0500
TZOFFSETTO:-0400
TZNAME:EDT
DTSTART:20250309T070000
END:DAYLIGHT
BEGIN:STANDARD
TZOFFSETFROM:-0400
TZOFFSETTO:-0500
TZNAME:EST
DTSTART:20251102T060000
END:STANDARD
BEGIN:DAYLIGHT
TZOFFSETFROM:-0500
TZOFFSETTO:-0400
TZNAME:EDT
DTSTART:20260308T070000
END:DAYLIGHT
BEGIN:STANDARD
TZOFFSETFROM:-0400
TZOFFSETTO:-0500
TZNAME:EST
DTSTART:20261101T060000
END:STANDARD
BEGIN:DAYLIGHT
TZOFFSETFROM:-0500
TZOFFSETTO:-0400
TZNAME:EDT
DTSTART:20270314T070000
END:DAYLIGHT
BEGIN:STANDARD
TZOFFSETFROM:-0400
TZOFFSETTO:-0500
TZNAME:EST
DTSTART:20271107T060000
END:STANDARD
END:VTIMEZONE
BEGIN:VEVENT
DTSTART;TZID=America/New_York:20260204T110000
DTEND;TZID=America/New_York:20260204T150000
DTSTAMP:20260422T070229
CREATED:20260119T201604Z
LAST-MODIFIED:20260119T201605Z
UID:10000883-1770202800-1770217200@energysaversnetwork.org
SUMMARY:ESN1846 in Fairview
DESCRIPTION:Details: Home has dogs  \n\n\n\nYou will work on a home implementing energy-efficiency upgrades like replacing light bulbs and water fixtures\, insulating water heaters\, sealing air ducts and windows\, installing smoke alarms\, and much more. To prepare please read and watch our Volunteer Training video (10 minutes) on our Preparation and Client Communication Protocols page. Steve Kemble will be your Team Lead and Trainer. We will send you a group text the evening before the workday with details on when and where to meet. \n\n\n\nIf you have questions\, please contact us at (828) 585-4492 x2. If you need to cancel\, please email volunteer@energysaversnetwork.org at least 24 hours in advance of the workday.
URL:https://energysaversnetwork.org/event/esn1846-in-fairview/
ATTACH;FMTTYPE=image/jpeg:https://energysaversnetwork.org/wp-content/uploads/2025/02/Steve-Kemble-1.jpg
END:VEVENT
BEGIN:VEVENT
DTSTART;TZID=America/New_York:20260205T110000
DTEND;TZID=America/New_York:20260205T150000
DTSTAMP:20260422T070229
CREATED:20260119T201704Z
LAST-MODIFIED:20260119T201705Z
UID:10000884-1770289200-1770303600@energysaversnetwork.org
SUMMARY:ESN1855 in Candler
DESCRIPTION:Details: Home has dogs  \n\n\n\nYou will work on a home implementing energy-efficiency upgrades like replacing light bulbs and water fixtures\, insulating water heaters\, sealing air ducts and windows\, installing smoke alarms\, and much more. To prepare please read and watch our Volunteer Training video (10 minutes) on our Preparation and Client Communication Protocols page. Steve Kemble will be your Team Lead and Trainer. We will send you a group text the evening before the workday with details on when and where to meet. \n\n\n\nIf you have questions\, please contact us at (828) 585-4492 x2. If you need to cancel\, please email volunteer@energysaversnetwork.org at least 24 hours in advance of the workday.
URL:https://energysaversnetwork.org/event/esn1855-in-candler/
ATTACH;FMTTYPE=image/jpeg:https://energysaversnetwork.org/wp-content/uploads/2025/02/Steve-Kemble-1.jpg
END:VEVENT
BEGIN:VEVENT
DTSTART;TZID=America/New_York:20260206T110000
DTEND;TZID=America/New_York:20260206T150000
DTSTAMP:20260422T070229
CREATED:20260119T202035Z
LAST-MODIFIED:20260120T150948Z
UID:10000885-1770375600-1770390000@energysaversnetwork.org
SUMMARY:ESN1856 in Arden
DESCRIPTION:Details: Home has dogs  \n\n\n\nYou will work on a home implementing energy-efficiency upgrades like replacing light bulbs and water fixtures\, insulating water heaters\, sealing air ducts and windows\, installing smoke alarms\, and much more. To prepare please read and watch our Volunteer Training video (10 minutes) on our Preparation and Client Communication Protocols page. Steve Kemble will be your Team Lead and Trainer. We will send you a group text the evening before the workday with details on when and where to meet. \n\n\n\nIf you have questions\, please contact us at (828) 585-4492 x2. If you need to cancel\, please email volunteer@energysaversnetwork.org at least 24 hours in advance of the workday.
URL:https://energysaversnetwork.org/event/esn1856-in-arden/
ATTACH;FMTTYPE=image/jpeg:https://energysaversnetwork.org/wp-content/uploads/2025/02/Steve-Kemble-1.jpg
END:VEVENT
BEGIN:VEVENT
DTSTART;TZID=America/New_York:20260210T110000
DTEND;TZID=America/New_York:20260210T150000
DTSTAMP:20260422T070229
CREATED:20260126T171809Z
LAST-MODIFIED:20260126T171811Z
UID:10000886-1770721200-1770735600@energysaversnetwork.org
SUMMARY:ESN1859 in Emma
DESCRIPTION:Details: Home has dogs  \n\n\n\nYou will work on a home implementing energy-efficiency upgrades like replacing light bulbs and water fixtures\, insulating water heaters\, sealing air ducts and windows\, installing smoke alarms\, and much more. To prepare please read and watch our Volunteer Training video (10 minutes) on our Preparation and Client Communication Protocols page. Steve Kemble will be your Team Lead and Trainer. We will send you a group text the evening before the workday with details on when and where to meet. \n\n\n\nIf you have questions\, please contact us at (828) 585-4492 x2. If you need to cancel\, please email volunteer@energysaversnetwork.org at least 24 hours in advance of the workday.
URL:https://energysaversnetwork.org/event/esn1859-in-emma/
ATTACH;FMTTYPE=image/jpeg:https://energysaversnetwork.org/wp-content/uploads/2025/02/Steve-Kemble-1.jpg
END:VEVENT
BEGIN:VEVENT
DTSTART;TZID=America/New_York:20260211T110000
DTEND;TZID=America/New_York:20260211T150000
DTSTAMP:20260422T070229
CREATED:20260126T171943Z
LAST-MODIFIED:20260126T171945Z
UID:10000887-1770807600-1770822000@energysaversnetwork.org
SUMMARY:ESN1850 in Alexander
DESCRIPTION:Details: Home has dogs  \n\n\n\nYou will work on a home implementing energy-efficiency upgrades like replacing light bulbs and water fixtures\, insulating water heaters\, sealing air ducts and windows\, installing smoke alarms\, and much more. To prepare please read and watch our Volunteer Training video (10 minutes) on our Preparation and Client Communication Protocols page. Steve Kemble will be your Team Lead and Trainer. We will send you a group text the evening before the workday with details on when and where to meet. \n\n\n\nIf you have questions\, please contact us at (828) 585-4492 x2. If you need to cancel\, please email volunteer@energysaversnetwork.org at least 24 hours in advance of the workday.
URL:https://energysaversnetwork.org/event/esn1850-in-alexander/
ATTACH;FMTTYPE=image/jpeg:https://energysaversnetwork.org/wp-content/uploads/2025/02/Steve-Kemble-1.jpg
END:VEVENT
BEGIN:VEVENT
DTSTART;TZID=America/New_York:20260212T110000
DTEND;TZID=America/New_York:20260212T150000
DTSTAMP:20260422T070229
CREATED:20260126T172216Z
LAST-MODIFIED:20260202T205758Z
UID:10000888-1770894000-1770908400@energysaversnetwork.org
SUMMARY:ESN1858 in Candler
DESCRIPTION:You will work on a home implementing energy-efficiency upgrades like replacing light bulbs and water fixtures\, insulating water heaters\, sealing air ducts and windows\, installing smoke alarms\, and much more. To prepare please read and watch our Volunteer Training video (10 minutes) on our Preparation and Client Communication Protocols page. Steve Kemble will be your Team Lead and Trainer. We will send you a group text the evening before the workday with details on when and where to meet. \n\n\n\nIf you have questions\, please contact us at (828) 585-4492 x2. If you need to cancel\, please email volunteer@energysaversnetwork.org at least 24 hours in advance of the workday.
URL:https://energysaversnetwork.org/event/esn1858-in-candler/
ATTACH;FMTTYPE=image/jpeg:https://energysaversnetwork.org/wp-content/uploads/2025/02/Steve-Kemble-1.jpg
END:VEVENT
BEGIN:VEVENT
DTSTART;TZID=America/New_York:20260213T110000
DTEND;TZID=America/New_York:20260213T150000
DTSTAMP:20260422T070229
CREATED:20260202T205822Z
LAST-MODIFIED:20260202T205823Z
UID:10000894-1770980400-1770994800@energysaversnetwork.org
SUMMARY:ESN1864 in East Asheville
DESCRIPTION:You will work on a home implementing energy-efficiency upgrades like replacing light bulbs and water fixtures\, insulating water heaters\, sealing air ducts and windows\, installing smoke alarms\, and much more. To prepare please read and watch our Volunteer Training video (10 minutes) on our Preparation and Client Communication Protocols page. Steve Kemble will be your Team Lead and Trainer. We will send you a group text the evening before the workday with details on when and where to meet. \n\n\n\nIf you have questions\, please contact us at (828) 585-4492 x2. If you need to cancel\, please email volunteer@energysaversnetwork.org at least 24 hours in advance of the workday.
URL:https://energysaversnetwork.org/event/esn1864-in-east-asheville/
ATTACH;FMTTYPE=image/jpeg:https://energysaversnetwork.org/wp-content/uploads/2025/02/Steve-Kemble-1.jpg
END:VEVENT
BEGIN:VEVENT
DTSTART;TZID=America/New_York:20260218T110000
DTEND;TZID=America/New_York:20260218T150000
DTSTAMP:20260422T070229
CREATED:20260216T202018Z
LAST-MODIFIED:20260216T202019Z
UID:10000896-1771412400-1771426800@energysaversnetwork.org
SUMMARY:ESN1860 in Leicester
DESCRIPTION:Details: Home has dogs  \n\n\n\n\n\nYou will work on a home implementing energy-efficiency upgrades like replacing light bulbs and water fixtures\, insulating water heaters\, sealing air ducts and windows\, installing smoke alarms\, and much more. To prepare please read and watch our Volunteer Training video (10 minutes) on our Preparation and Client Communication Protocols page. Steve Kemble will be your Team Lead and Trainer. We will send you a group text prior to the workday with details on when and where to meet. \n\n\n\nIf you have questions\, please contact us at (828) 585-4492 x2. If you need to cancel\, please email volunteer@energysaversnetwork.org at least 24 hours in advance of the workday.
URL:https://energysaversnetwork.org/event/esn1860-in-leicester/
ATTACH;FMTTYPE=image/jpeg:https://energysaversnetwork.org/wp-content/uploads/2025/02/Steve-Kemble-1.jpg
END:VEVENT
BEGIN:VEVENT
DTSTART;TZID=America/New_York:20260219T110000
DTEND;TZID=America/New_York:20260219T150000
DTSTAMP:20260422T070229
CREATED:20260128T154005Z
LAST-MODIFIED:20260216T201947Z
UID:10000889-1771498800-1771513200@energysaversnetwork.org
SUMMARY:ESN1861 in South Asheville
DESCRIPTION:Details: Home has dogs  \n\n\n\n\n\nYou will work on a home implementing energy-efficiency upgrades like replacing light bulbs and water fixtures\, insulating water heaters\, sealing air ducts and windows\, installing smoke alarms\, and much more. To prepare please read and watch our Volunteer Training video (10 minutes) on our Preparation and Client Communication Protocols page. Steve Kemble will be your Team Lead and Trainer. We will send you a group text prior to the workday with details on when and where to meet. \n\n\n\nIf you have questions\, please contact us at (828) 585-4492 x2. If you need to cancel\, please email volunteer@energysaversnetwork.org at least 24 hours in advance of the workday.
URL:https://energysaversnetwork.org/event/esn1861-in-south-asheville/
ATTACH;FMTTYPE=image/jpeg:https://energysaversnetwork.org/wp-content/uploads/2025/02/Steve-Kemble-1.jpg
END:VEVENT
BEGIN:VEVENT
DTSTART;TZID=America/New_York:20260220T110000
DTEND;TZID=America/New_York:20260220T150000
DTSTAMP:20260422T070229
CREATED:20251222T223709Z
LAST-MODIFIED:20260130T184628Z
UID:10000873-1771585200-1771599600@energysaversnetwork.org
SUMMARY:ESN1841 in Swannanoa
DESCRIPTION:Details: Home has dogs  \n\n\n\n\n\nYou will work on a home implementing energy-efficiency upgrades like replacing light bulbs and water fixtures\, insulating water heaters\, sealing air ducts and windows\, installing smoke alarms\, and much more. To prepare please read and watch our Volunteer Training video (10 minutes) on our Preparation and Client Communication Protocols page. Steve Kemble will be your Team Lead and Trainer. We will send you a group text prior to the workday with details on when and where to meet. \n\n\n\nIf you have questions\, please contact us at (828) 585-4492 x2. If you need to cancel\, please email volunteer@energysaversnetwork.org at least 24 hours in advance of the workday.
URL:https://energysaversnetwork.org/event/esn1841-in-swannanoa-2/
ATTACH;FMTTYPE=image/jpeg:https://energysaversnetwork.org/wp-content/uploads/2025/02/Steve-Kemble-1.jpg
END:VEVENT
BEGIN:VEVENT
DTSTART;TZID=America/New_York:20260221T110000
DTEND;TZID=America/New_York:20260221T150000
DTSTAMP:20260422T070229
CREATED:20260130T202113Z
LAST-MODIFIED:20260203T223715Z
UID:10000892-1771671600-1771686000@energysaversnetwork.org
SUMMARY:ESN1868 in Weaverville
DESCRIPTION:Details: Home has dogs  \n\n\n\n\n\nYou will work on a home implementing energy-efficiency upgrades like replacing light bulbs and water fixtures\, insulating water heaters\, sealing air ducts and windows\, installing smoke alarms\, and much more. To prepare please read and watch our Volunteer Training video (10 minutes) on our Preparation and Client Communication Protocols page. Steve Kemble will be your Team Lead and Trainer. We will send you a group text prior to the workday with details on when and where to meet. \n\n\n\nIf you have questions\, please contact us at (828) 585-4492 x2. If you need to cancel\, please email volunteer@energysaversnetwork.org at least 24 hours in advance of the workday.
URL:https://energysaversnetwork.org/event/weatherization-location-tbd-3/
ATTACH;FMTTYPE=image/jpeg:https://energysaversnetwork.org/wp-content/uploads/2025/02/Steve-Kemble-1.jpg
END:VEVENT
BEGIN:VEVENT
DTSTART;TZID=America/New_York:20260224T110000
DTEND;TZID=America/New_York:20260224T150000
DTSTAMP:20260422T070229
CREATED:20260128T154059Z
LAST-MODIFIED:20260128T154101Z
UID:10000890-1771930800-1771945200@energysaversnetwork.org
SUMMARY:ESN1862 in Candler
DESCRIPTION:You will work on a home implementing energy-efficiency upgrades like replacing light bulbs and water fixtures\, insulating water heaters\, sealing air ducts and windows\, installing smoke alarms\, and much more. To prepare please read and watch our Volunteer Training video (10 minutes) on our Preparation and Client Communication Protocols page. Steve Kemble will be your Team Lead and Trainer. We will send you a group text prior to the workday with details on when and where to meet. \n\n\n\nIf you have questions\, please contact us at (828) 585-4492 x2. If you need to cancel\, please email volunteer@energysaversnetwork.org at least 24 hours in advance of the workday.
URL:https://energysaversnetwork.org/event/esn1862-in-candler/
ATTACH;FMTTYPE=image/jpeg:https://energysaversnetwork.org/wp-content/uploads/2025/02/Steve-Kemble-1.jpg
END:VEVENT
BEGIN:VEVENT
DTSTART;TZID=America/New_York:20260225T110000
DTEND;TZID=America/New_York:20260225T150000
DTSTAMP:20260422T070229
CREATED:20260130T202358Z
LAST-MODIFIED:20260204T004622Z
UID:10000893-1772017200-1772031600@energysaversnetwork.org
SUMMARY:ESN1866 in Enka
DESCRIPTION:Details: Home has dogs  \n\n\n\n\n\nYou will work on a home implementing energy-efficiency upgrades like replacing light bulbs and water fixtures\, insulating water heaters\, sealing air ducts and windows\, installing smoke alarms\, and much more. To prepare please read and watch our Volunteer Training video (10 minutes) on our Preparation and Client Communication Protocols page. Steve Kemble will be your Team Lead and Trainer. We will send you a group text prior to the workday with details on when and where to meet. \n\n\n\nIf you have questions\, please contact us at (828) 585-4492 x2. If you need to cancel\, please email volunteer@energysaversnetwork.org at least 24 hours in advance of the workday.
URL:https://energysaversnetwork.org/event/weatherization-location-tbd-4/
ATTACH;FMTTYPE=image/jpeg:https://energysaversnetwork.org/wp-content/uploads/2025/02/Steve-Kemble-1.jpg
END:VEVENT
BEGIN:VEVENT
DTSTART;TZID=America/New_York:20260227T110000
DTEND;TZID=America/New_York:20260227T150000
DTSTAMP:20260422T070229
CREATED:20260202T210209Z
LAST-MODIFIED:20260202T210210Z
UID:10000895-1772190000-1772204400@energysaversnetwork.org
SUMMARY:ESN1865 in Arden
DESCRIPTION:Details: Home has dogs  \n\n\n\n\n\nYou will work on a home implementing energy-efficiency upgrades like replacing light bulbs and water fixtures\, insulating water heaters\, sealing air ducts and windows\, installing smoke alarms\, and much more. To prepare please read and watch our Volunteer Training video (10 minutes) on our Preparation and Client Communication Protocols page. Steve Kemble will be your Team Lead and Trainer. We will send you a group text the evening before the workday with details on when and where to meet. \n\n\n\nIf you have questions\, please contact us at (828) 585-4492 x2. If you need to cancel\, please email volunteer@energysaversnetwork.org at least 24 hours in advance of the workday.
URL:https://energysaversnetwork.org/event/esn1865-in-arden/
ATTACH;FMTTYPE=image/jpeg:https://energysaversnetwork.org/wp-content/uploads/2025/02/Steve-Kemble-1.jpg
END:VEVENT
END:VCALENDAR